BEGIN:VCALENDAR
VERSION:2.0
PRODID:-//Cornerstone Broker Insurance Services Agency - ECPv6.15.13.1//NONSGML v1.0//EN
CALSCALE:GREGORIAN
METHOD:PUBLISH
X-WR-CALNAME:Cornerstone Broker Insurance Services Agency
X-ORIGINAL-URL:https://www.crnstone.com
X-WR-CALDESC:Events for Cornerstone Broker Insurance Services Agency
REFRESH-INTERVAL;VALUE=DURATION:PT1H
X-Robots-Tag:noindex
X-PUBLISHED-TTL:PT1H
BEGIN:VTIMEZONE
TZID:UTC
BEGIN:STANDARD
TZOFFSETFROM:+0000
TZOFFSETTO:+0000
TZNAME:UTC
DTSTART:20220101T000000
END:STANDARD
END:VTIMEZONE
BEGIN:VEVENT
DTSTART;TZID=UTC:20230419T093000
DTEND;TZID=UTC:20230419T100000
DTSTAMP:20260420T100050
CREATED:20230331T150601Z
LAST-MODIFIED:20230331T150601Z
UID:10127-1681896600-1681898400@www.crnstone.com
SUMMARY:The Individual Corner | Ambetter 2023 Individual Plans (Part 2)
DESCRIPTION:Join Cornerstone’s Geoff Beglen for part two of our two-part series with Ambetter on their individual plans\, products\, technologies\, and marketing strategies. A brief Q&A will follow the presentation.
URL:https://www.crnstone.com/event/the-individual-corner-ambetter-2023-individual-plans-part-2/
CATEGORIES:The Individual Corner
END:VEVENT
END:VCALENDAR