BEGIN:VCALENDAR
VERSION:2.0
PRODID:-//Cornerstone Broker Insurance Services Agency - ECPv6.15.13.1//NONSGML v1.0//EN
CALSCALE:GREGORIAN
METHOD:PUBLISH
X-WR-CALNAME:Cornerstone Broker Insurance Services Agency
X-ORIGINAL-URL:https://www.crnstone.com
X-WR-CALDESC:Events for Cornerstone Broker Insurance Services Agency
REFRESH-INTERVAL;VALUE=DURATION:PT1H
X-Robots-Tag:noindex
X-PUBLISHED-TTL:PT1H
BEGIN:VTIMEZONE
TZID:UTC
BEGIN:STANDARD
TZOFFSETFROM:+0000
TZOFFSETTO:+0000
TZNAME:UTC
DTSTART:20200101T000000
END:STANDARD
END:VTIMEZONE
BEGIN:VEVENT
DTSTART;TZID=UTC:20230718T093000
DTEND;TZID=UTC:20230718T103000
DTSTAMP:20260422T145931
CREATED:20230606T151634Z
LAST-MODIFIED:20230606T151634Z
UID:10396-1689672600-1689676200@www.crnstone.com
SUMMARY:Tech Tuesday | Gone Phishing
DESCRIPTION:Join Tom Levine as he reviews what you need to be aware of when it comes to internet security\, and some basic internet security features you may want to know more about. A brief Q&A will follow the presentation.
URL:https://www.crnstone.com/event/tech-tuesday-gone-phishing/
CATEGORIES:Tech Tuesday
END:VEVENT
BEGIN:VEVENT
DTSTART;TZID=UTC:20230706T093000
DTEND;TZID=UTC:20230706T103000
DTSTAMP:20260422T145931
CREATED:20230606T150918Z
LAST-MODIFIED:20230606T150918Z
UID:10393-1688635800-1688639400@www.crnstone.com
SUMMARY:Tech Tuesday | ChatGPT and What It Can Be Used For in Health Insurance
DESCRIPTION:For this Tech…Thursday(?)\, Tom Levine will cover what ChatGPT is doing now\, what it could be used for in the future\, and how people are taking advantage of tools just like it. A brief Q&A will follow the presentation.
URL:https://www.crnstone.com/event/tech-tuesday-chatgpt-and-what-it-can-be-used-for-in-health-insurance/
CATEGORIES:Tech Tuesday
END:VEVENT
BEGIN:VEVENT
DTSTART;TZID=UTC:20230620T093000
DTEND;TZID=UTC:20230620T103000
DTSTAMP:20260422T145931
CREATED:20230606T152508Z
LAST-MODIFIED:20230606T152508Z
UID:10402-1687253400-1687257000@www.crnstone.com
SUMMARY:Tech Tuesday | What are ChatGPT and LLMs?
DESCRIPTION:ChatGPT has everyone a-buzz in the world of AI. But what is the difference between ChatGPT and other AI?  \nJoin Cornerstone’s Tom Levine to learn about the differences between AI systems and what makes them so powerful and\, in some cases\, useful. A brief Q&A will follow the presentation.
URL:https://www.crnstone.com/event/tech-tuesday-what-are-chatgpt-and-llms/
CATEGORIES:Tech Tuesday
END:VEVENT
BEGIN:VEVENT
DTSTART;TZID=UTC:20230606T093000
DTEND;TZID=UTC:20230606T103000
DTSTAMP:20260422T145931
CREATED:20230523T145859Z
LAST-MODIFIED:20230523T145859Z
UID:10348-1686043800-1686047400@www.crnstone.com
SUMMARY:Tech Tuesday | Securing Your Emails with Zix
DESCRIPTION:Join Cornerstone’s Tom Levine to learn how to use Cornerstone’s secure replies and how to navigate Zix. Plus\, learn how to set up Zix for your own business! A brief Q&A will follow the presentation.
URL:https://www.crnstone.com/event/tech-tuesday-securing-your-emails-with-zix/
CATEGORIES:Tech Tuesday
END:VEVENT
BEGIN:VEVENT
DTSTART;TZID=UTC:20230523T093000
DTEND;TZID=UTC:20230523T103000
DTSTAMP:20260422T145931
CREATED:20230503T201411Z
LAST-MODIFIED:20230517T192821Z
UID:10278-1684834200-1684837800@www.crnstone.com
SUMMARY:Tech Tuesday | Outlook's Best Add Ons to Improve Your Workflow
DESCRIPTION:Join Cornerstone’s Tom Levine to learn about Outlook and the add ons that you can use to make your life easier. A brief Q&A will follow the presentation.
URL:https://www.crnstone.com/event/tech-tuesday-outlooks-best-add-ons-to-improve-your-workflow/
CATEGORIES:Tech Tuesday
END:VEVENT
BEGIN:VEVENT
DTSTART;TZID=UTC:20230509T093000
DTEND;TZID=UTC:20230509T103000
DTSTAMP:20260422T145931
CREATED:20230414T143059Z
LAST-MODIFIED:20230503T185455Z
UID:10211-1683624600-1683628200@www.crnstone.com
SUMMARY:Tech Tuesday | Using Fillable PDFs
DESCRIPTION:Join Cornerstone’s Tom Levine to learn all about PDFs\, how to create and use fillable PDFs\, and what to keep in mind when using PDFs. A brief Q&A will follow the presentation.
URL:https://www.crnstone.com/event/tech-tuesday-using-pre-made-pdfs/
CATEGORIES:Tech Tuesday
END:VEVENT
BEGIN:VEVENT
DTSTART;TZID=UTC:20230425T093000
DTEND;TZID=UTC:20230425T103000
DTSTAMP:20260422T145931
CREATED:20230414T141904Z
LAST-MODIFIED:20230414T141904Z
UID:10200-1682415000-1682418600@www.crnstone.com
SUMMARY:Tech Tuesday | All About the Cornerstone Website
DESCRIPTION:Join Cornerstone’s Tom Levine to learn more about the Cornerstone website and how you can use it to grow your business. A brief Q&A will follow the presentation.
URL:https://www.crnstone.com/event/tech-tuesday-all-about-the-cornerstone-website/
CATEGORIES:Tech Tuesday
END:VEVENT
BEGIN:VEVENT
DTSTART;TZID=UTC:20230411T093000
DTEND;TZID=UTC:20230411T103000
DTSTAMP:20260422T145931
CREATED:20230331T145904Z
LAST-MODIFIED:20230331T145904Z
UID:10121-1681205400-1681209000@www.crnstone.com
SUMMARY:Tech Tuesday | What Even is AGB?
DESCRIPTION:Join Tom Levine to learn about Cornerstone’s AGB Broker Suitcase\, its commissions and client management features\, and why it is a useful tool for your every day client management needs. A brief Q&A will follow the presentation.
URL:https://www.crnstone.com/event/tech-tuesday-what-even-is-agb/
CATEGORIES:Tech Tuesday
END:VEVENT
BEGIN:VEVENT
DTSTART;TZID=UTC:20230328T093000
DTEND;TZID=UTC:20230328T103000
DTSTAMP:20260422T145931
CREATED:20230130T200416Z
LAST-MODIFIED:20230322T133048Z
UID:9770-1679995800-1679999400@www.crnstone.com
SUMMARY:Tech Tuesday | Tracking Compensation and Using Your Census Through Excel
DESCRIPTION:Familiarizing yourself with Excel can help you more easily track your business data and communicate efficiently with your Cornerstone broker advisors.  \nJoin Cornerstone’s Tom Levine to learn how to translate data from a census onto our required resource at Cornerstone\, as well as how to make a great commission tracker. A brief Q&A will follow the presentation.
URL:https://www.crnstone.com/event/tech-tuesday-tracking-compensation-and-using-your-census-through-excel/
CATEGORIES:Tech Tuesday
END:VEVENT
BEGIN:VEVENT
DTSTART;TZID=UTC:20230314T093000
DTEND;TZID=UTC:20230314T103000
DTSTAMP:20260422T145931
CREATED:20230130T195816Z
LAST-MODIFIED:20230306T174507Z
UID:9764-1678786200-1678789800@www.crnstone.com
SUMMARY:Tech Tuesday | Excel Features to Keep in Mind
DESCRIPTION:Excel is one of the most important tools in your arsenal as a health insurance broker. Join Cornerstone’s Tom Levine as he reviews the most useful formulas and best practices that will make using Excel a breeze for any level of user. A brief Q&A will follow the presentation.
URL:https://www.crnstone.com/event/tech-tuesday-excel-features-to-keep-in-mind/
CATEGORIES:Tech Tuesday
ATTACH;FMTTYPE=image/jpeg:https://www.crnstone.com/wp-content/uploads/2023/01/shutterstock_420780988.jpg
END:VEVENT
BEGIN:VEVENT
DTSTART;TZID=UTC:20230228T093000
DTEND;TZID=UTC:20230228T103000
DTSTAMP:20260422T145931
CREATED:20230127T212958Z
LAST-MODIFIED:20230127T212958Z
UID:9726-1677576600-1677580200@www.crnstone.com
SUMMARY:Tech Tuesday | Better Browsing Solutions
DESCRIPTION:Join Cornerstone’s Tom Levine for a review of the different browsers\, their strengths\, some tips and tricks\, and the browsers that you always want to keep installed. A brief Q&A will follow the presentation.
URL:https://www.crnstone.com/event/tech-tuesday-better-browsing-solutions/
CATEGORIES:Tech Tuesday
END:VEVENT
BEGIN:VEVENT
DTSTART;TZID=UTC:20230214T093000
DTEND;TZID=UTC:20230214T103000
DTSTAMP:20260422T145931
CREATED:20230127T211533Z
LAST-MODIFIED:20230208T180151Z
UID:9724-1676367000-1676370600@www.crnstone.com
SUMMARY:Tech Tuesday | Windows Updates and Features You Need to Know About
DESCRIPTION:There are a number of useful Windows features and integrations that could help you improve your productivity.  \nJoin Cornerstone’s Tom Levine for a review of these features\, including calendar reminders\, “Start” menu pinning\, app support\, voice typing\, and more. A brief Q&A will follow the presentation.
URL:https://www.crnstone.com/event/tech-tuesday-windows-updates-and-features-you-need-to-know-about/
CATEGORIES:Tech Tuesday
END:VEVENT
BEGIN:VEVENT
DTSTART;TZID=UTC:20220809T093000
DTEND;TZID=UTC:20220809T103000
DTSTAMP:20260422T145931
CREATED:20220624T144430Z
LAST-MODIFIED:20220624T144430Z
UID:8149-1660037400-1660041000@www.crnstone.com
SUMMARY:Tech Tuesday | Data Entry the Healthy Way
DESCRIPTION:Now that busy season is upon us\, everyone needs to type a lot of info very quickly\, so increasing your typing and processing speed is imperative. Normal keyboards and mice however aren’t always the best option.  \nJoin Cornerstone’s Tom Levine as reviews keyboard and mice options that are designed to reduce carpal tunnel pain\, and some features of different programs that may help speed up your data entry and typing speed. A brief Q&A will follow the presentation.
URL:https://www.crnstone.com/event/tech-tuesday-data-entry-the-healthy-way/
CATEGORIES:Tech Tuesday
END:VEVENT
BEGIN:VEVENT
DTSTART;TZID=UTC:20220726T093000
DTEND;TZID=UTC:20220726T103000
DTSTAMP:20260422T145931
CREATED:20220624T142347Z
LAST-MODIFIED:20220624T142347Z
UID:8141-1658827800-1658831400@www.crnstone.com
SUMMARY:Tech Tuesday | Techie Talk
DESCRIPTION:Technology changes at an alarming pace and it can be difficult to keep up. But there is some jargon you should know so you can better understand your technology.  \nJoin Cornerstone’s Tom Levine as he reviews common tech jargon to help you figure out what your IT department is really saying. A brief Q&A will follow the presentation.
URL:https://www.crnstone.com/event/tech-tuesday-techie-talk/
CATEGORIES:Tech Tuesday
END:VEVENT
BEGIN:VEVENT
DTSTART;TZID=UTC:20220628T093000
DTEND;TZID=UTC:20220628T103000
DTSTAMP:20260422T145931
CREATED:20220603T193716Z
LAST-MODIFIED:20220603T193716Z
UID:8061-1656408600-1656412200@www.crnstone.com
SUMMARY:Tech Tuesday | Two-Step Verification and Data Security
DESCRIPTION:Security is changing at a fast pace. Join Cornerstone tech expert Tom Levine as he reveals why two-step verification is being implemented by carrier portals\, best practices for interacting with them\, and why this is necessary for online security. A brief Q&A will follow the presentation.
URL:https://www.crnstone.com/event/tech-tuesday-two-step-verification-and-data-security/
CATEGORIES:Tech Tuesday
END:VEVENT
BEGIN:VEVENT
DTSTART;TZID=UTC:20220614T093000
DTEND;TZID=UTC:20220614T103000
DTSTAMP:20260422T145931
CREATED:20220420T173323Z
LAST-MODIFIED:20220603T193247Z
UID:7691-1655199000-1655202600@www.crnstone.com
SUMMARY:Tech Tuesday | Welcome to the Internet!
DESCRIPTION:The internet is more than just the “E” icon on your desktop. There are many ways to interact with the web and some things you should do to stay safe online.  \nJoin Tom Levine as he walks you through how a pro interacts with the internet and best practices. A brief Q&A will follow the presentation.
URL:https://www.crnstone.com/event/tech-tuesday-welcome-to-the-internet/
CATEGORIES:Tech Tuesday
END:VEVENT
BEGIN:VEVENT
DTSTART;TZID=UTC:20220531T093000
DTEND;TZID=UTC:20220531T103000
DTSTAMP:20260422T145931
CREATED:20220525T201316Z
LAST-MODIFIED:20220525T201316Z
UID:7999-1653989400-1653993000@www.crnstone.com
SUMMARY:Tech Tuesday | How to Set Up Your Home Internet
DESCRIPTION:Most people rent their router and modem from an internet company\, but did you know you can save money and get more reliable service with your own equipment?  \nJoin Cornerstone’s tech guru Tom Levine as he reviews how to set up and fix your own internet modem and router and why you should do it yourself for your home internet. A brief Q&A will follow the presentation.
URL:https://www.crnstone.com/event/tech-tuesday-how-to-set-up-your-home-internet/
CATEGORIES:Tech Tuesday
END:VEVENT
BEGIN:VEVENT
DTSTART;TZID=UTC:20220517T093000
DTEND;TZID=UTC:20220517T103000
DTSTAMP:20260422T145931
CREATED:20220420T171736Z
LAST-MODIFIED:20220420T171736Z
UID:7679-1652779800-1652783400@www.crnstone.com
SUMMARY:Tech Tuesday | What's New in Tech for 2022?
DESCRIPTION:When choosing a new computer\, tablet\, or phone\, there are many decisions to make and many specs to consider.  \nJoin Cornerstone’s in-house tech guru Tom Levine for a review of some of 2022’s best new products\, how to choose the right system for you\, and how to find a quality tech piece on a budget. A brief Q&A will follow the presentation.
URL:https://www.crnstone.com/event/tech-tuesday-whats-new-in-tech-for-2022/
CATEGORIES:Tech Tuesday
END:VEVENT
BEGIN:VEVENT
DTSTART;TZID=UTC:20220503T093000
DTEND;TZID=UTC:20220503T103000
DTSTAMP:20260422T145931
CREATED:20220420T143253Z
LAST-MODIFIED:20220502T201902Z
UID:7667-1651570200-1651573800@www.crnstone.com
SUMMARY:*CANCELLED* Tech Tuesday | Ask Me Anything: You've Got Questions\, I've Got Answers!
DESCRIPTION:This webinar has been cancelled.
URL:https://www.crnstone.com/event/tech-tuesday-ask-me-anything-youve-got-questions-ive-got-answers/
CATEGORIES:Tech Tuesday
END:VEVENT
BEGIN:VEVENT
DTSTART;TZID=UTC:20220419T093000
DTEND;TZID=UTC:20220419T103000
DTSTAMP:20260422T145931
CREATED:20220325T150145Z
LAST-MODIFIED:20220325T150145Z
UID:7496-1650360600-1650364200@www.crnstone.com
SUMMARY:Tech Tuesday | Windows 10 vs. Windows 11
DESCRIPTION:If you’re not a full-on techie\, it’s not surprising if you don’t know about Windows’ new OS.  \nJoin Cornerstone’s resident techie Tom Levine to learn what this new system means for your Windows 10 devices and how it stacks up against past generations. A brief Q&A will follow the presentation.
URL:https://www.crnstone.com/event/tech-tuesday-windows-10-vs-windows-11/
CATEGORIES:Tech Tuesday
END:VEVENT
BEGIN:VEVENT
DTSTART;TZID=UTC:20220405T093000
DTEND;TZID=UTC:20220405T103000
DTSTAMP:20260422T145931
CREATED:20220325T144955Z
LAST-MODIFIED:20220325T144955Z
UID:7484-1649151000-1649154600@www.crnstone.com
SUMMARY:Tech Tuesday | Using Microsoft Outlook and Word
DESCRIPTION:Outlook can be more than email and Word can be more than a word processor.  \nJoin Cornerstone’s Tom Levine as he walks you through the ins and outs of both systems and how you can use them together. A brief Q&A will follow the presentation.
URL:https://www.crnstone.com/event/tech-tuesday-using-microsoft-outlook-and-word/
CATEGORIES:Tech Tuesday
END:VEVENT
BEGIN:VEVENT
DTSTART;TZID=UTC:20220322T093000
DTEND;TZID=UTC:20220322T103000
DTSTAMP:20260422T145931
CREATED:20220228T193407Z
LAST-MODIFIED:20220228T193407Z
UID:7318-1647941400-1647945000@www.crnstone.com
SUMMARY:Tech Tuesday | The Ins and Outs of Conferences and Online Meetings
DESCRIPTION:From screen lags to audio hiccups\, putting together a successful online meeting can be tricky.  \nJoin Cornerstone’s Tom Levine to learn which online meeting systems are most recommended and why\, as well as some basic tips and tricks to help your meetings succeed. A brief Q&A will follow the presentation.
URL:https://www.crnstone.com/event/tech-tuesday-the-ins-and-outs-of-conferences-and-online-meetings/
CATEGORIES:Tech Tuesday
END:VEVENT
BEGIN:VEVENT
DTSTART;TZID=UTC:20220308T093000
DTEND;TZID=UTC:20220308T103000
DTSTAMP:20260422T145931
CREATED:20220203T202117Z
LAST-MODIFIED:20220203T202117Z
UID:7196-1646731800-1646735400@www.crnstone.com
SUMMARY:Tech Tuesday | Excel Pivot Tables and Graphs
DESCRIPTION:A practical Excel user makes their own tables\, a master gets the data to work for them.  \nJoin Cornerstone’s Tom Levine to learn all about how you can use pivot tables to quickly look at data and make a table/chart everyone can read. A brief Q&A will follow the presentation.
URL:https://www.crnstone.com/event/tech-tuesday-excel-pivot-tables-and-graphs/
CATEGORIES:Tech Tuesday
END:VEVENT
BEGIN:VEVENT
DTSTART;TZID=UTC:20220222T093000
DTEND;TZID=UTC:20220222T103000
DTSTAMP:20260422T145931
CREATED:20220203T200412Z
LAST-MODIFIED:20220203T200412Z
UID:7184-1645522200-1645525800@www.crnstone.com
SUMMARY:Tech Tuesday | Becoming a Practical Excel User with Menus
DESCRIPTION:The difference between a novice and practical Excel user is the use of the menu.  \nJoin Tom Levine as he teaches you features of Excel that will take your expertise to the next level. A brief Q&A will follow the presentation.
URL:https://www.crnstone.com/event/tech-tuesday-becoming-a-practical-excel-user-with-menus/
CATEGORIES:Tech Tuesday
END:VEVENT
BEGIN:VEVENT
DTSTART;TZID=UTC:20220208T093000
DTEND;TZID=UTC:20220208T103000
DTSTAMP:20260422T145931
CREATED:20220119T210705Z
LAST-MODIFIED:20220119T210705Z
UID:7086-1644312600-1644316200@www.crnstone.com
SUMMARY:Tech Tuesday | Getting Started with Excel
DESCRIPTION:Excel is one of the most complex yet efficient programs in the Microsoft Office Suite.  \nJoin Cornerstone’s Tom Levine to learn how to use the software and how you can use it in your day-to-day life to improve efficiency. A brief Q&A will follow the presentation.
URL:https://www.crnstone.com/event/tech-tuesday-getting-started-with-excel/
CATEGORIES:Tech Tuesday
END:VEVENT
BEGIN:VEVENT
DTSTART;TZID=UTC:20220125T093000
DTEND;TZID=UTC:20220125T093000
DTSTAMP:20260422T145931
CREATED:20220114T150002Z
LAST-MODIFIED:20220125T135958Z
UID:7016-1643103000-1643103000@www.crnstone.com
SUMMARY:*CANCELLED* Tech Tuesday | The Benefits of the Microsoft Office Suite
DESCRIPTION:*We apologize for the late notice\, but today’s Tech Tuesday webinar has been cancelled. We will keep you informed if the webinar is rescheduled.* \nThe Microsoft Office suite of programs comes on most office computers\, but do you know what each of them does? There’s more to it than just Excel and Outlook.  \nJoin Cornerstone’s Tom Levine as he walks through what comes with the Microsoft Office packages you can get in 2022. A brief Q&A will follow the presentation.
URL:https://www.crnstone.com/event/tech-tuesday-the-benefits-of-the-microsoft-office-suite/
CATEGORIES:Tech Tuesday
END:VEVENT
BEGIN:VEVENT
DTSTART;TZID=UTC:20220111T093000
DTEND;TZID=UTC:20220111T103000
DTSTAMP:20260422T145931
CREATED:20220105T214946Z
LAST-MODIFIED:20220105T214946Z
UID:6948-1641893400-1641897000@www.crnstone.com
SUMMARY:Tech Tuesday | How to Use a Modern Computer
DESCRIPTION:Some say they are bad with technology\, but that’s really just code for “I haven’t found the right teacher”.  \nJoin Cornerstone’s Tom Levine as he reviews some tips and tricks to using a modern computer like a pro. A brief Q&A will follow the presentation.
URL:https://www.crnstone.com/event/tech-tuesday-how-to-use-a-modern-computer/
CATEGORIES:Tech Tuesday
END:VEVENT
BEGIN:VEVENT
DTSTART;TZID=UTC:20210810T093000
DTEND;TZID=UTC:20210810T103000
DTSTAMP:20260422T145931
CREATED:20210715T152346Z
LAST-MODIFIED:20210715T152346Z
UID:5601-1628587800-1628591400@www.crnstone.com
SUMMARY:Tech Tuesday | What is a VPN and Why Do You Need One?
DESCRIPTION:VPNs are useful for agents and agencies alike\, but do you know the difference between a personal and corporate VPN? \nJoin Cornerstone’s Tom Levine as he walks through the basics of VPNs\, the differences between personal and corporate\, some of the best kinds of VPN\, and more. A brief Q&A will follow the presentation. \nClick here to register.
URL:https://www.crnstone.com/event/tech-tuesday-what-is-a-vpn-and-why-do-you-need-one/
CATEGORIES:Tech Tuesday
END:VEVENT
BEGIN:VEVENT
DTSTART;TZID=UTC:20210727T093000
DTEND;TZID=UTC:20210727T103000
DTSTAMP:20260422T145931
CREATED:20210715T152022Z
LAST-MODIFIED:20210715T165716Z
UID:5597-1627378200-1627381800@www.crnstone.com
SUMMARY:Tech Tuesday | Your Technology Questions Answered By the Expert
DESCRIPTION:Your tech questions answered! Join Cornerstone’s Tom Levine for an open Q&A where he will answer your most burning technology questions. A brief Q&A will follow the presentation. \nClick here to register.
URL:https://www.crnstone.com/event/tech-tuesday-your-technology-questions-answered-by-the-expert/
CATEGORIES:Tech Tuesday
END:VEVENT
BEGIN:VEVENT
DTSTART;TZID=UTC:20210713T093000
DTEND;TZID=UTC:20210713T103000
DTSTAMP:20260422T145931
CREATED:20210521T173659Z
LAST-MODIFIED:20210521T173659Z
UID:5206-1626168600-1626172200@www.crnstone.com
SUMMARY:Tech Tuesday | Handling Computer Crashes
DESCRIPTION:Uh-oh. Your computer crashed. Is all your data gone? How do you recover? Is there any way to fix this mess!  \nJoin Cornerstone’s Tom Levine as he explains how to troubleshoot some common problems\, read an error screen\, and what you might be able to do to save your data. Plus\, you’ll know when you need a professional to look at your device\, vs. when you might be able to save a buck. A brief Q&A will follow the presentation. \nClick here to register.
URL:https://www.crnstone.com/event/tech-tuesday-handling-computer-crashes/
CATEGORIES:Tech Tuesday
END:VEVENT
END:VCALENDAR