BEGIN:VCALENDAR
VERSION:2.0
PRODID:-//Cornerstone Broker Insurance Services Agency - ECPv6.15.13.1//NONSGML v1.0//EN
CALSCALE:GREGORIAN
METHOD:PUBLISH
X-ORIGINAL-URL:https://www.crnstone.com
X-WR-CALDESC:Events for Cornerstone Broker Insurance Services Agency
REFRESH-INTERVAL;VALUE=DURATION:PT1H
X-Robots-Tag:noindex
X-PUBLISHED-TTL:PT1H
BEGIN:VTIMEZONE
TZID:UTC
BEGIN:STANDARD
TZOFFSETFROM:+0000
TZOFFSETTO:+0000
TZNAME:UTC
DTSTART:20190101T000000
END:STANDARD
END:VTIMEZONE
BEGIN:VEVENT
DTSTART;TZID=UTC:20200616T100000
DTEND;TZID=UTC:20200616T110000
DTSTAMP:20260425T234816
CREATED:20200605T144141Z
LAST-MODIFIED:20200610T134310Z
UID:2823-1592301600-1592305200@www.crnstone.com
SUMMARY:WEBINAR: Learn About Anthem's SmartShopper Cost of Care Tool
DESCRIPTION:Anthem is expanding its offering of SmartShopper to all Ohio fully insured groups and will be offering to ASO clients starting July 1\, 2020. \nSmartShopper is a cost of care tool your clients can share with their employees to support their health and economic security. SmartShopper empowers members to save money and earn a reward by giving them full transparency into alternative\, high-value\, low-cost facilities for a number of established services. \nYou may have received an email related to SmartShopper webinars in May\, which we unfortunately had to reschedule. The good news is that we have two upcoming webinars to review how SmartShopper works and how you can promote and sell the product. We will list the care services included\, the member incentives and explain where and how members can self-serve. \nRegister for one of the two webinars below to learn more on how to leverage this great product. \nTuesday\, June\, 16th 10:00-11:00am ET \nThursday\, June\, 18th 12:00-1:00pm ET \nUpon registering\, you will receive an email with information about logging in to the webinar online or listening by phone. \nContact your Cornerstone representative with any questions.
URL:https://www.crnstone.com/event/webianr-learn-about-anthems-smartshopper-cost-of-care-tool/
CATEGORIES:Webinar
END:VEVENT
BEGIN:VEVENT
DTSTART;TZID=UTC:20200618T120000
DTEND;TZID=UTC:20200618T130000
DTSTAMP:20260425T234816
CREATED:20200605T144344Z
LAST-MODIFIED:20200610T134341Z
UID:2827-1592481600-1592485200@www.crnstone.com
SUMMARY:WEBINAR: Learn About Anthem's SmartShopper Cost of Care Tool
DESCRIPTION:Anthem is expanding its offering of SmartShopper to all Ohio fully insured groups and will be offering to ASO clients starting July 1\, 2020. \nSmartShopper is a cost of care tool your clients can share with their employees to support their health and economic security. SmartShopper empowers members to save money and earn a reward by giving them full transparency into alternative\, high-value\, low-cost facilities for a number of established services. \nYou may have received an email related to SmartShopper webinars in May\, which we unfortunately had to reschedule. The good news is that we have two upcoming webinars to review how SmartShopper works and how you can promote and sell the product. We will list the care services included\, the member incentives and explain where and how members can self-serve. \nRegister for one of the two webinars below to learn more on how to leverage this great product. \nTuesday\, June\, 16th 10:00-11:00am ET \nThursday\, June\, 18th 12:00-1:00pm ET \nUpon registering\, you will receive an email with information about logging in to the webinar online or listening by phone. \nContact your Cornerstone representative with any questions.
URL:https://www.crnstone.com/event/webinar-learn-about-anthems-smartshopper-cost-of-care-tool/
CATEGORIES:Webinar
END:VEVENT
BEGIN:VEVENT
DTSTART;TZID=UTC:20200624T093000
DTEND;TZID=UTC:20200624T103000
DTSTAMP:20260425T234816
CREATED:20200601T175506Z
LAST-MODIFIED:20200619T154235Z
UID:2750-1592991000-1592994600@www.crnstone.com
SUMMARY:Cornerstone Special Guest Series | Social Security 101 with Dennis Heywood
DESCRIPTION:Navigating Social Security can be complex and we recognize the challenge with understanding the system and communicating it to your clients. \nJoin Cornerstone for part one of our two-part series on Social Security with Dennis Heywood from Social Security Solutions. The first part of the series will cover the fundamentals of the decision making process\, including defining the full retirement age\, eligibility factors\, and how to decide when to start monthly benefits. A brief Q&A will follow the presentation. \nClick here to register.
URL:https://www.crnstone.com/event/social-security-101/
CATEGORIES:Webinar
END:VEVENT
END:VCALENDAR