BEGIN:VCALENDAR
VERSION:2.0
PRODID:-//Cornerstone Broker Insurance Services Agency - ECPv6.15.13.1//NONSGML v1.0//EN
CALSCALE:GREGORIAN
METHOD:PUBLISH
X-ORIGINAL-URL:https://www.crnstone.com
X-WR-CALDESC:Events for Cornerstone Broker Insurance Services Agency
REFRESH-INTERVAL;VALUE=DURATION:PT1H
X-Robots-Tag:noindex
X-PUBLISHED-TTL:PT1H
BEGIN:VTIMEZONE
TZID:UTC
BEGIN:STANDARD
TZOFFSETFROM:+0000
TZOFFSETTO:+0000
TZNAME:UTC
DTSTART:20190101T000000
END:STANDARD
END:VTIMEZONE
BEGIN:VEVENT
DTSTART;TZID=UTC:20200914T090000
DTEND;TZID=UTC:20200914T110000
DTSTAMP:20260425T190625
CREATED:20200901T141752Z
LAST-MODIFIED:20200901T141752Z
UID:3276-1600074000-1600081200@www.crnstone.com
SUMMARY:2021 Small Group Carrier Update Webinars: Aetna and Humana
DESCRIPTION:Day 1: Monday September 14\, 2020 \n9:00 am–10:00 am — Aetna\, hosted by Nelson Culp \n\nScott Bredmour from Aetna will cover their 2 to 100 eligible level-funded product (Aetna Funding Advantage). With Aetna now a CVS company\, Scott will go through how all members can get a COVID-19 test through one of their CVS locations without a doctors note and no cost to the member\, as well as how you can book an appointment online.\n\n10:00 am–11:00 am — Humana\, hosted by Shelly Brownell \n\nHumana’s Leslie Isler will cover dental and vision\, a level-funded premium overview\, On Hand\, a reminder about EAP\, and Go365 updates.\n\nRegister for the September 14 webinars
URL:https://www.crnstone.com/event/2021-small-group-carrier-update-webinars-aetna-and-humana/
CATEGORIES:Webinar
END:VEVENT
BEGIN:VEVENT
DTSTART;TZID=UTC:20200921T090000
DTEND;TZID=UTC:20200921T100000
DTSTAMP:20260425T190625
CREATED:20200901T141902Z
LAST-MODIFIED:20200901T142115Z
UID:3279-1600678800-1600682400@www.crnstone.com
SUMMARY:2021 Small Group Carrier Update Webinars: Anthem
DESCRIPTION:Day 2: Monday September 21\, 2020 \n9:00 am–10:00 am — Anthem and Anthem SOCA\, hosted by Shelly Brownell \n\nPlease join the Anthem sales team as they cover new products and networks for 2021\, technology enhancements for members\, and more for small group 2 to 50 and key accounts 51 to 99.\n\nRegister for the September 21 webinar
URL:https://www.crnstone.com/event/2021-small-group-carrier-update-webinars-anthem/
CATEGORIES:Webinar
END:VEVENT
BEGIN:VEVENT
DTSTART;TZID=UTC:20200928T090000
DTEND;TZID=UTC:20200928T110000
DTSTAMP:20260425T190625
CREATED:20200901T142005Z
LAST-MODIFIED:20200901T142005Z
UID:3282-1601283600-1601290800@www.crnstone.com
SUMMARY:2021 Small Group Carrier Update Webinars: MMO and UnitedHealthcare
DESCRIPTION:Day 3: Monday September 28\, 2020 \n9:00 am–10:00 am — MMO and MMO COSE\, hosted by Kim Kinnaird \n\nMMO will present updates on all their plans for January 2021 including ACA\, Grandmothered/Grandfathered\, the COSE MEWA\, and ancillary. They’ll also cover what to expect with upcoming renewals and new options for wellness.\n\n10:00 am–11:00 am — UnitedHealthcare\, hosted by Jeff Lewis \n\nGet up to speed for fourth quarter with UnitedHealthcare. UHC will discuss January 1\, 2021\, readiness for small businesses (2–50).\n\nRegister for the September 28 webinars
URL:https://www.crnstone.com/event/2021-small-group-carrier-update-webinars-mmo-and-unitedhealthcare/
CATEGORIES:Webinar
END:VEVENT
END:VCALENDAR