BEGIN:VCALENDAR
VERSION:2.0
PRODID:-//Cornerstone Broker Insurance Services Agency - ECPv6.15.13.1//NONSGML v1.0//EN
CALSCALE:GREGORIAN
METHOD:PUBLISH
X-WR-CALNAME:Cornerstone Broker Insurance Services Agency
X-ORIGINAL-URL:https://www.crnstone.com
X-WR-CALDESC:Events for Cornerstone Broker Insurance Services Agency
REFRESH-INTERVAL;VALUE=DURATION:PT1H
X-Robots-Tag:noindex
X-PUBLISHED-TTL:PT1H
BEGIN:VTIMEZONE
TZID:UTC
BEGIN:STANDARD
TZOFFSETFROM:+0000
TZOFFSETTO:+0000
TZNAME:UTC
DTSTART:20190101T000000
END:STANDARD
END:VTIMEZONE
BEGIN:VEVENT
DTSTART;TZID=UTC:20200701T093000
DTEND;TZID=UTC:20200701T103000
DTSTAMP:20260425T234712
CREATED:20200601T180542Z
LAST-MODIFIED:20200619T163627Z
UID:2756-1593595800-1593599400@www.crnstone.com
SUMMARY:Cornerstone Special Guest Series | Social Security 201 with Dennis Heywood
DESCRIPTION:Navigating Social Security can be complex and we recognize the challenge with understanding the system and communicating it to your clients. \nJoin Cornerstone for part two of our two-part series on Social Security with Dennis Heywood from Social Security Solutions. The second part of the series will cover misinformation cases\, Medicare entitlement\, disability benefits\, and some practical advice for dealing with Social Security. A brief Q&A will follow the presentation. \nClick here to register.
URL:https://www.crnstone.com/event/social-security-201/
CATEGORIES:Webinar
END:VEVENT
END:VCALENDAR