BEGIN:VCALENDAR
VERSION:2.0
PRODID:-//Cornerstone Broker Insurance Services Agency - ECPv6.15.13.1//NONSGML v1.0//EN
CALSCALE:GREGORIAN
METHOD:PUBLISH
X-ORIGINAL-URL:https://www.crnstone.com
X-WR-CALDESC:Events for Cornerstone Broker Insurance Services Agency
REFRESH-INTERVAL;VALUE=DURATION:PT1H
X-Robots-Tag:noindex
X-PUBLISHED-TTL:PT1H
BEGIN:VTIMEZONE
TZID:UTC
BEGIN:STANDARD
TZOFFSETFROM:+0000
TZOFFSETTO:+0000
TZNAME:UTC
DTSTART:20190101T000000
END:STANDARD
END:VTIMEZONE
BEGIN:VEVENT
DTSTART;TZID=UTC:20200715T100000
DTEND;TZID=UTC:20200715T120000
DTSTAMP:20260425T235119
CREATED:20200715T130412Z
LAST-MODIFIED:20200715T130600Z
UID:3063-1594807200-1594814400@www.crnstone.com
SUMMARY:WEBINAR WITH CE AVAILABLE: Get the Latest Updates on Aetna’s New Plans for Groups
DESCRIPTION:Cornerstone is hosting a two-hour web-based training and CE session. Get the latest updates on Aetna’s new plans available September 1 along with 1 hour Ohio CE on Wednesday\, July 15 from 10:00 am to 12:00 pm. \nThe Aetna team will review updates to their employer plan portfolio available September 1\, go over their current plans and  value adds. \nThe CE is “Understanding an Employer’s Risk to Global Assignments\,” a one hour CE course covering several topics for groups with International exposure\, such as risk diversity by population\, compliance\, health and well-being\, employee safety\, global security\, and mitigating strategies. Presented by Andy Koesterman. \nYOU MUST REGISTER AND COMPLETE A FORM BY JULY 10\, 2020: \n1. Click here when the webinar starts.\n(The session password is Cornerstone2020! If you don’t have WebEx loaded on your computer\, there is an option to join by web browser.) \n2. To receive CE credit for this course\, please fill out this attestation and licensing information document and return it to koestermana@aetna.com by Friday\, July 10\, 2020.\nContact your Cornerstone representative with any questions.
URL:https://www.crnstone.com/event/webinar-with-ce-available-get-the-latest-updates-on-aetnas-new-plans-for-groups/
CATEGORIES:Webinar
END:VEVENT
END:VCALENDAR