BEGIN:VCALENDAR
VERSION:2.0
PRODID:-//Cornerstone Broker Insurance Services Agency - ECPv6.15.13.1//NONSGML v1.0//EN
CALSCALE:GREGORIAN
METHOD:PUBLISH
X-WR-CALNAME:Cornerstone Broker Insurance Services Agency
X-ORIGINAL-URL:https://www.crnstone.com
X-WR-CALDESC:Events for Cornerstone Broker Insurance Services Agency
REFRESH-INTERVAL;VALUE=DURATION:PT1H
X-Robots-Tag:noindex
X-PUBLISHED-TTL:PT1H
BEGIN:VTIMEZONE
TZID:UTC
BEGIN:STANDARD
TZOFFSETFROM:+0000
TZOFFSETTO:+0000
TZNAME:UTC
DTSTART:20190101T000000
END:STANDARD
END:VTIMEZONE
BEGIN:VEVENT
DTSTART;TZID=UTC:20201006T143000
DTEND;TZID=UTC:20201006T153000
DTSTAMP:20260425T190446
CREATED:20201002T132553Z
LAST-MODIFIED:20201002T132553Z
UID:3571-1601994600-1601998200@www.crnstone.com
SUMMARY:WEBINAR: ICHRA Policy and Application Overview
DESCRIPTION:The Centers for Medicare and Medicaid Services will host the “Individual Coverage Health Reimbursement Arrangements: Policy and Application Overview Webinar”. \nThe webinar will cover: \n\nDefine Individual Coverage Health Reimbursement Arrangement (HRAs) and other types of HRAs\nDiscuss Individual Coverage HRA and Qualified Small Employer HRA consumer scenarios\nDescribe Individual Coverage HRAs’ impact on Premium Tax Credit (PTC) eligibility\n\nDate: Tuesday\, October 6\, 2020 \nTime: 2:30 pm–3:30 pm \nIf you wish to register for this event\, please log in to www.REGTAP.info and complete the following steps: \n\nSelect “Training Events” from “My Dashboard”\nSelect the “View” icon next to event title “Individual Coverage Health Reimbursement Arrangements: Policy and Application Overview”\nSelect “Register Me”
URL:https://www.crnstone.com/event/webinar-ichra-policy-and-application-overview/
CATEGORIES:Webinar
END:VEVENT
END:VCALENDAR