BEGIN:VCALENDAR
VERSION:2.0
PRODID:-//Cornerstone Broker Insurance Services Agency - ECPv6.15.13.1//NONSGML v1.0//EN
CALSCALE:GREGORIAN
METHOD:PUBLISH
X-WR-CALNAME:Cornerstone Broker Insurance Services Agency
X-ORIGINAL-URL:https://www.crnstone.com
X-WR-CALDESC:Events for Cornerstone Broker Insurance Services Agency
REFRESH-INTERVAL;VALUE=DURATION:PT1H
X-Robots-Tag:noindex
X-PUBLISHED-TTL:PT1H
BEGIN:VTIMEZONE
TZID:UTC
BEGIN:STANDARD
TZOFFSETFROM:+0000
TZOFFSETTO:+0000
TZNAME:UTC
DTSTART:20210101T000000
END:STANDARD
END:VTIMEZONE
BEGIN:VEVENT
DTSTART;TZID=UTC:20220719T093000
DTEND;TZID=UTC:20220719T110000
DTSTAMP:20260423T221822
CREATED:20220520T180351Z
LAST-MODIFIED:20220712T151004Z
UID:7976-1658223000-1658228400@www.crnstone.com
SUMMARY:Social Security 101 with Denny Heywood of Social Security Solutions
DESCRIPTION:Join Cornerstone and Social Security Solutions’ Denny Heywood for our annual Social Security 101 webinar. This year\, Denny will talk about 2022 earning limits\, disability benefits\, misinformation issues\, myths\, practical advice and more! A brief Q&A will follow the presentation.
URL:https://www.crnstone.com/event/social-security-101-with-denny-heywood-of-social-security-solutions/
CATEGORIES:Webinar
END:VEVENT
END:VCALENDAR