BEGIN:VCALENDAR
VERSION:2.0
PRODID:-//Cornerstone Broker Insurance Services Agency - ECPv6.15.13.1//NONSGML v1.0//EN
CALSCALE:GREGORIAN
METHOD:PUBLISH
X-WR-CALNAME:Cornerstone Broker Insurance Services Agency
X-ORIGINAL-URL:https://www.crnstone.com
X-WR-CALDESC:Events for Cornerstone Broker Insurance Services Agency
REFRESH-INTERVAL;VALUE=DURATION:PT1H
X-Robots-Tag:noindex
X-PUBLISHED-TTL:PT1H
BEGIN:VTIMEZONE
TZID:UTC
BEGIN:STANDARD
TZOFFSETFROM:+0000
TZOFFSETTO:+0000
TZNAME:UTC
DTSTART:20190101T000000
END:STANDARD
END:VTIMEZONE
BEGIN:VEVENT
DTSTART;TZID=UTC:20200609T093000
DTEND;TZID=UTC:20200609T103000
DTSTAMP:20260419T223721
CREATED:20200505T142745Z
LAST-MODIFIED:20200505T142745Z
UID:2544-1591695000-1591698600@www.crnstone.com
SUMMARY:Build Your Brand | Website 101 with Tech Tuesday
DESCRIPTION:Have you been looking to create a website for your business\, but you aren’t sure where or how to begin? The process can seem daunting and it’s intimidating to dive into a world of codes and binaries. \nThis webinar will pull back the curtain and show you a behind-the-scenes look at how simple it is to create and maintain your website. Join Cornerstone’s Jess Larkin and Tech Tuesday’s Tom Levine to learn how you can quickly and easily build a functional and successful website today. A brief Q&A will follow the presentation. \nClick here to register.
URL:https://www.crnstone.com/event/build-your-brand-website-101-with-tech-tuesday/
CATEGORIES:Build Your Brand
END:VEVENT
BEGIN:VEVENT
DTSTART;TZID=UTC:20200603T093000
DTEND;TZID=UTC:20200603T103000
DTSTAMP:20260419T223721
CREATED:20200505T132327Z
LAST-MODIFIED:20200505T144546Z
UID:2488-1591176600-1591180200@www.crnstone.com
SUMMARY:The Individual Corner | with special guest Oscar
DESCRIPTION:There are opportunities outside of open enrollment that you might be missing! \nJoin Cornerstone’s Geoff Beglen and Oscar’s Jared Wasley to discuss how to sell Oscar during SEP. A brief Q&A will follow the presentation. \nClick here to register.
URL:https://www.crnstone.com/event/the-individual-corner-with-special-guest-oscar/
CATEGORIES:The Individual Corner
END:VEVENT
BEGIN:VEVENT
DTSTART;TZID=UTC:20200602T093000
DTEND;TZID=UTC:20200602T103000
DTSTAMP:20260419T223721
CREATED:20200505T135336Z
LAST-MODIFIED:20200505T135346Z
UID:2516-1591090200-1591093800@www.crnstone.com
SUMMARY:Tech Tuesday | Encryption and VPNs: Why you need one
DESCRIPTION:The internet is a gold mine for free information\, networking\, and communication\, but with this unlimited access comes risk. Your information is constantly being tracked on the internet and it’s become more important than ever to secure your network connection. \nJoin Cornerstone’s Tom Levine for a review of VPNs\, how they work within a network\, why they are secure\, and how to use them. A brief Q&A will follow the presentation. \nClick here to register.
URL:https://www.crnstone.com/event/tech-tuesday-data-security-with-special-guest-connective-computing-2/
CATEGORIES:Tech Tuesday
END:VEVENT
BEGIN:VEVENT
DTSTART;TZID=UTC:20200528T100000
DTEND;TZID=UTC:20200528T110000
DTSTAMP:20260419T223721
CREATED:20200520T144901Z
LAST-MODIFIED:20200520T144901Z
UID:2640-1590660000-1590663600@www.crnstone.com
SUMMARY:FormFire Quoting: Introduction of Improved Online Quoting Format
DESCRIPTION:Join Cornerstone’s Beth Davisson (Broker Advisor\, Dayton) and Kyle Wolfe (New Business Assistant) for an introduction and review of the improved FormFire quoting process. Effective June 1\, 2020\, the FormFire quoting tool will be the exclusive way we produce your ACA quotes. If your group is currently an ACA client\, we’ll be covering how you request final rates before moving carriers. Some of the many benefits include: \n\nQuicker turnaround times due to the efficiency of the quoting tool\nA pre-populated spreadsheet easily manipulated to fit your spreadsheeting needs\nPlans in ascending order based on premium\nLess consumption of paper and email space\nMore knowledge to sell\n\nWe strongly recommend that any broker selling ACA products plan to attend the webinar to familiarize yourself with the new ACA quoting format. \n\nDATE: May 28\, 2020 \nTIME: 10:00 am–11:00 am \nRegister.
URL:https://www.crnstone.com/event/formfire-quoting-introduction-of-improved-online-quoting-format/
CATEGORIES:Webinar
END:VEVENT
BEGIN:VEVENT
DTSTART;TZID=UTC:20200526T093000
DTEND;TZID=UTC:20200526T103000
DTSTAMP:20260419T223721
CREATED:20200505T142543Z
LAST-MODIFIED:20200505T142543Z
UID:2541-1590485400-1590489000@www.crnstone.com
SUMMARY:Build Your Brand | Making the Most of Your Facebook Business Profile
DESCRIPTION:You have set up your Facebook page\, you have some followers\, and you have received a few likes here and there. Now what? How do you grow your audience and continually post valuable content that will help you grow your follower base and your business? \nJoin Cornerstone’s Jessica Larkin for a 201 deep dive into the small tweaks you could be making to your Facebook strategy to improve your engagement\, common mistakes that you may be running into as a first-time Facebook user\, and more. A brief Q&A will follow the presentation. \nClick here to register.
URL:https://www.crnstone.com/event/build-your-brand-making-the-most-of-your-facebook-business-profile/
CATEGORIES:Build Your Brand
END:VEVENT
BEGIN:VEVENT
DTSTART;TZID=UTC:20200520T093000
DTEND;TZID=UTC:20200520T103000
DTSTAMP:20260419T223721
CREATED:20200501T203125Z
LAST-MODIFIED:20200501T203125Z
UID:2476-1589967000-1589970600@www.crnstone.com
SUMMARY:The Individual Corner | Marketing to Millennials
DESCRIPTION:Marketing to the Millennial generation presents new challenges. With an estimated 80 million Millennials in the U.S.\, it’s important to tailor your messaging properly for the best results. \nJoin Cornerstone’s Geoff Beglen for a deep dive into how to market to Millennials\, how their use of technology will impact your marketing strategy\, and the key to retaining Millennial clients. A brief Q&A will follow the presentation. \nClick here to register.
URL:https://www.crnstone.com/event/the-individual-corner-marketing-to-millennials/
CATEGORIES:The Individual Corner
END:VEVENT
BEGIN:VEVENT
DTSTART;TZID=UTC:20200519T093000
DTEND;TZID=UTC:20200519T103000
DTSTAMP:20260419T223721
CREATED:20200422T202959Z
LAST-MODIFIED:20200505T135453Z
UID:2407-1589880600-1589884200@www.crnstone.com
SUMMARY:Tech Tuesday | Data Security with special guest Connective Computing
DESCRIPTION:Now\, more than ever\, data security should be at the top of your priority list. \nJoin Cornerstone’s Tom Levine and Connective Computing’s Jeff Driever to learn about remote storage and data backup options\, common attacks and how to avoid them\, how to filter our spam and fishing requests\, hard drive encryption versus file encryption\, and the difference between antivirus and firewalls. A brief Q&A will follow the presentation. \nClick here to register.
URL:https://www.crnstone.com/event/tech-tuesday-data-security-with-special-guest-connective-computing/
CATEGORIES:Tech Tuesday
END:VEVENT
BEGIN:VEVENT
DTSTART;TZID=UTC:20200512T093000
DTEND;TZID=UTC:20200512T103000
DTSTAMP:20260419T223721
CREATED:20200422T202333Z
LAST-MODIFIED:20200422T202333Z
UID:2401-1589275800-1589279400@www.crnstone.com
SUMMARY:Build Your Brand | LinkedIn 101
DESCRIPTION:LinkedIn is the premier resource for professionals to network\, review job opportunities\, and follow industry leaders. This social networking site is also a great platform for businesses to connect with clients\, especially in employee benefits. \nJoin Cornerstone’s Jessica Larkin as she covers the ins and outs of LinkedIn\, how to use LinkedIn as a business\, and how to set up a business and personal profile. A brief Q&A will follow the presentation. \nClick here to register.
URL:https://www.crnstone.com/event/build-your-brand-linkedin-101/
CATEGORIES:Build Your Brand
END:VEVENT
BEGIN:VEVENT
DTSTART;TZID=UTC:20200507T100000
DTEND;TZID=UTC:20200507T110000
DTSTAMP:20260419T223721
CREATED:20200422T125804Z
LAST-MODIFIED:20200422T125804Z
UID:2385-1588845600-1588849200@www.crnstone.com
SUMMARY:The Group Corner | Anthem New Business Updates
DESCRIPTION:Join Cornerstone and Anthem’s Vincent Sowell for a review of Anthem’s new business updates. The webinar will cover ACA new business rates\, SOCA MEWA new business rates\, SOCA MEWA sole proprietors\, as well as their expanded dental portfolio. \nClick here to register.
URL:https://www.crnstone.com/event/the-group-corner-anthem-new-business-updates/
CATEGORIES:The Group Corner
END:VEVENT
BEGIN:VEVENT
DTSTART;TZID=UTC:20200506T093000
DTEND;TZID=UTC:20200506T103000
DTSTAMP:20260419T223721
CREATED:20200422T202450Z
LAST-MODIFIED:20200422T202450Z
UID:2404-1588757400-1588761000@www.crnstone.com
SUMMARY:The Individual Corner | with special guest Ameritas
DESCRIPTION:Join Cornerstone’s Geoff Beglen and National Sales Director for Ameritas Todd Cowan for an update on the new Ameritas Protect Plan. Protect has improved first dollar benefits for both basic and major benefits. This is a great product for both the individual and Medicare markets. A brief Q&A will follow the presentation. \nClick here to register.
URL:https://www.crnstone.com/event/the-individual-corner-with-special-guest-ameritas/
CATEGORIES:The Individual Corner
END:VEVENT
BEGIN:VEVENT
DTSTART;TZID=UTC:20200505T093000
DTEND;TZID=UTC:20200505T103000
DTSTAMP:20260419T223721
CREATED:20200311T140308Z
LAST-MODIFIED:20200311T140308Z
UID:1963-1588671000-1588674600@www.crnstone.com
SUMMARY:Tech Tuesday | Which Web Browser is Right for You?
DESCRIPTION:These days\, you have a number of choices when it comes to web browsers\, but all have their own strengths and weaknesses. What are the differences among Google Chrome\, Firefox\, Safari\, and Internet Explorer/Microsoft Edge? \nJoin Cornerstone’s Tom Levine as he covers the basics of each browser and how to determine the one that is best for you. A brief Q&A will follow the presentation. \nClick here to register.
URL:https://www.crnstone.com/event/tech-tuesday-which-web-browser-is-right-for-you/
CATEGORIES:Tech Tuesday
END:VEVENT
BEGIN:VEVENT
DTSTART;TZID=UTC:20200428T100000
DTEND;TZID=UTC:20200428T120000
DTSTAMP:20260419T223721
CREATED:20200424T152119Z
LAST-MODIFIED:20200424T170106Z
UID:2423-1588068000-1588075200@www.crnstone.com
SUMMARY:WEBINAR: Working Remote Using Telesales
DESCRIPTION:Join Cornerstone Senior Marketing as they host special guest Gaylan Hendricks\, CEO of Senior Security Benefits\, Inc.\, for an information-packed presentation. \nAgents will learn how to use telesales during this really unusual time and be able to do a “simple customer service call” and transition into a sale. \nThis is not a product training\, but a “how to pivot and position the product” for you to increase you income $30\,000 a year or 30 percent. \nGaylan Hendricks has been in the telesales industry for over 35 years and is one of the top agents in cancer sales individually\, selling cancer plans since 1992. \nAll attendees will be given her presentation\, the one that she uses with successful sales teams throughout the country. \nClick here to register.
URL:https://www.crnstone.com/event/webinar-working-remote-using-telesales/
CATEGORIES:Webinar
END:VEVENT
BEGIN:VEVENT
DTSTART;TZID=UTC:20200428T100000
DTEND;TZID=UTC:20200428T110000
DTSTAMP:20260419T223721
CREATED:20200417T193056Z
LAST-MODIFIED:20200417T193056Z
UID:2376-1588068000-1588071600@www.crnstone.com
SUMMARY:WEBINAR: Anthem SOCA MEWA Benefit Plan Training
DESCRIPTION:Join Anthem for an online training to qualify to sell the SOCA MEWA Benefit Plan. \nClick here to join the meeting.
URL:https://www.crnstone.com/event/webinar-anthem-soca-mewa-benefit-plan-training/
CATEGORIES:Webinar
END:VEVENT
BEGIN:VEVENT
DTSTART;TZID=UTC:20200428T093000
DTEND;TZID=UTC:20200428T103000
DTSTAMP:20260419T223721
CREATED:20200311T141517Z
LAST-MODIFIED:20200417T193836Z
UID:1969-1588066200-1588069800@www.crnstone.com
SUMMARY:Build Your Brand | Email Marketing 201 Best Practices
DESCRIPTION:Join Cornerstone’s Jessica Larkin and iContact’s Hank Hoffmeier to discuss email marketing best practices\, maintaining list hygiene\, email deliverability\, automation\, and segmentation. \nDon’t wait to make email marketing an integral part of your strategy! Register today. \nClick here to register.
URL:https://www.crnstone.com/event/build-your-brand-icontact-email-marketing-walkthrough-creating-and-sending-an-email/
CATEGORIES:Build Your Brand
END:VEVENT
BEGIN:VEVENT
DTSTART;TZID=UTC:20200422T093000
DTEND;TZID=UTC:20200422T103000
DTSTAMP:20260419T223721
CREATED:20200311T135624Z
LAST-MODIFIED:20200311T135624Z
UID:1954-1587547800-1587551400@www.crnstone.com
SUMMARY:The Individual Corner | with special guest IHC
DESCRIPTION:Join Cornerstone’s Individual expert Geoff Beglen and The IHC Group’s Marc Capogrossi for a review of IHC’s short-term and ancillary products. A brief Q&A will follow the presentation. \nClick here to register.
URL:https://www.crnstone.com/event/the-individual-corner-with-special-guest-ihc-2/
CATEGORIES:The Individual Corner
END:VEVENT
BEGIN:VEVENT
DTSTART;TZID=UTC:20200421T093000
DTEND;TZID=UTC:20200421T103000
DTSTAMP:20260419T223721
CREATED:20200311T140040Z
LAST-MODIFIED:20200415T180142Z
UID:1960-1587461400-1587465000@www.crnstone.com
SUMMARY:Tech Tuesday | What is the Internet?
DESCRIPTION:The internet is your greatest asset for collecting and sharing information\, but what exactly is the internet? \nJoin Cornerstone’s Tom Levine as he covers networking\, network jargon\, modes and types\, the hardware involved and why you should get your own\, and how to set up your internet/WiFi. A brief Q&A will follow the presentation. \nClick here to register.
URL:https://www.crnstone.com/event/tech-tuesday-what-is-the-internet/
CATEGORIES:Tech Tuesday
END:VEVENT
BEGIN:VEVENT
DTSTART;TZID=UTC:20200416T093000
DTEND;TZID=UTC:20200416T103000
DTSTAMP:20260419T223721
CREATED:20200326T143419Z
LAST-MODIFIED:20200410T140306Z
UID:2201-1587029400-1587033000@www.crnstone.com
SUMMARY:The Group Corner | Anthem Employer Access: Step-by-Step Guide for Managing Health Benefits Online
DESCRIPTION:Join Cornerstone’s Tracy Lawson and Anthem for a review of Anthem’s employer portal. Effective immediately\, the employer portal will be the only tool used for ongoing maintenance on all Anthem Ohio SOCA MEWA groups. \nWe strongly recommend that any broker with active SOCA MEWA groups attend the webinar so you can easily guide your clients through the process and address any questions they may have. \nClick here to register.
URL:https://www.crnstone.com/event/the-group-corner-anthem-employer-access-step-by-step-guide-for-managing-health-benefits-online/
CATEGORIES:The Group Corner
END:VEVENT
BEGIN:VEVENT
DTSTART;TZID=UTC:20200414T093000
DTEND;TZID=UTC:20200414T103000
DTSTAMP:20260419T223721
CREATED:20200115T170915Z
LAST-MODIFIED:20200311T141144Z
UID:1582-1586856600-1586860200@www.crnstone.com
SUMMARY:Build Your Brand | Email Marketing
DESCRIPTION:Email is a quick and efficient tool for communicating directly with your clients. \nJoin Cornerstone’s Jessica Larkin and iContact’s email marketing expert Hank Hoffmeier for an in-depth webinar that looks at the value and importance of email marketing as well as how to implement best practices to yield the highest delivery and open rates for your messages. \nClick here to register.
URL:https://www.crnstone.com/event/build-your-brand-sustainable-marketing/
CATEGORIES:Build Your Brand
END:VEVENT
BEGIN:VEVENT
DTSTART;TZID=UTC:20200408T093000
DTEND;TZID=UTC:20200408T103000
DTSTAMP:20260419T223721
CREATED:20200311T135420Z
LAST-MODIFIED:20200311T135420Z
UID:1949-1586338200-1586341800@www.crnstone.com
SUMMARY:The Individual Corner | Increasing Revenue with Ancillary Sales
DESCRIPTION:Join Cornerstone’s Geoff Beglen to learn how to make the most of your ancillary sales with tips and techniques for how to bundle. A brief Q&A will follow the presentation. \nClick here to register.
URL:https://www.crnstone.com/event/the-individual-corner-increasing-revenue-with-ancillary-sales/
CATEGORIES:The Individual Corner
END:VEVENT
BEGIN:VEVENT
DTSTART;TZID=UTC:20200407T093000
DTEND;TZID=UTC:20200407T103000
DTSTAMP:20260419T223721
CREATED:20200311T135908Z
LAST-MODIFIED:20200311T135908Z
UID:1957-1586251800-1586255400@www.crnstone.com
SUMMARY:Tech Tuesday | "Just Google It" + FAQ
DESCRIPTION:There are a number of key search tools that you can use to hone in on the information that you’re looking for. \nJoin Cornerstone’s Tom Levine as he covers boolian searches\, what Google does with your search history\, alternatives to Google\, and more. A brief Q&A will follow the presentation. \nClick here to register.
URL:https://www.crnstone.com/event/tech-tuesday-just-google-it-faq/
CATEGORIES:Tech Tuesday
END:VEVENT
BEGIN:VEVENT
DTSTART;TZID=UTC:20200331T093000
DTEND;TZID=UTC:20200331T103000
DTSTAMP:20260419T223721
CREATED:20200115T170158Z
LAST-MODIFIED:20200320T134836Z
UID:1579-1585647000-1585650600@www.crnstone.com
SUMMARY:Build Your Brand | Design and Branding 101
DESCRIPTION:You have a brand\, you have a means of communicating with your clients and prospects. So how do you put together your marketing collateral? There are a number of online tools that you can use to easily design\, edit\, and print flyers\, logos\, videos\, and more. \nJoin Cornerstone’s Jessica Larkin as she walks through some of the programs she has used to create Cornerstone marketing pieces and how to use those programs. A brief Q&A will follow the presentation. \nClick here to register.
URL:https://www.crnstone.com/event/build-your-brand-design-and-branding-101-tools-and-simple-tricks/
CATEGORIES:Build Your Brand
END:VEVENT
BEGIN:VEVENT
DTSTART;TZID=UTC:20200326T093000
DTEND;TZID=UTC:20200326T103000
DTSTAMP:20260419T223721
CREATED:20200115T163952Z
LAST-MODIFIED:20200320T140010Z
UID:1572-1585215000-1585218600@www.crnstone.com
SUMMARY:Tech Tuesday | PDFs in a Nutshell
DESCRIPTION:A PDF is a common file type that you encounter when communicating with clients. But what are PDFs and when should you use them? \nJoin Cornerstone’s Tom Levine for a walkthrough of PDFs\, how to create them\, how to add fillable fields\, and how to properly save them. A brief Q&A will follow the presentation. \nClick here to register.
URL:https://www.crnstone.com/event/1572/
CATEGORIES:Tech Tuesday
END:VEVENT
BEGIN:VEVENT
DTSTART;TZID=UTC:20200325T093000
DTEND;TZID=UTC:20200325T103000
DTSTAMP:20260419T223721
CREATED:20200115T163127Z
LAST-MODIFIED:20200311T135135Z
UID:1560-1585128600-1585132200@www.crnstone.com
SUMMARY:The Individual Corner | with special guest National General
DESCRIPTION:Join Cornerstone’s Individual expert Geoff Beglen and National General’s Phil Mishler for a review of National General’s short-term and ancillary products. A brief Q&A will follow the presentation. \nClick here to register.
URL:https://www.crnstone.com/event/the-individual-corner-with-special-guest-national-general/
CATEGORIES:The Individual Corner
END:VEVENT
BEGIN:VEVENT
DTSTART;TZID=UTC:20200312T093000
DTEND;TZID=UTC:20200312T103000
DTSTAMP:20260419T223721
CREATED:20200115T162928Z
LAST-MODIFIED:20200228T162159Z
UID:1557-1584005400-1584009000@www.crnstone.com
SUMMARY:The Individual Corner | with special guest IHC
DESCRIPTION:Join Cornerstone’s Individual expert Geoff Beglen and The IHC Group’s Marc Capogrossi for a review of IHC’s short-term and ancillary products. A brief Q&A will follow the presentation. \nClick here to register.
URL:https://www.crnstone.com/event/the-individual-corner-with-special-guest-ihc/
CATEGORIES:The Individual Corner
END:VEVENT
BEGIN:VEVENT
DTSTART;TZID=UTC:20200311T093000
DTEND;TZID=UTC:20200311T103000
DTSTAMP:20260419T223721
CREATED:20200115T162650Z
LAST-MODIFIED:20200228T160952Z
UID:1554-1583919000-1583922600@www.crnstone.com
SUMMARY:The Individual Corner | with special guest UnitedHealthOne
DESCRIPTION:Join Cornerstone’s Individual expert Geoff Beglen and UnitedHealthOne’s Evan Altman for a product review webinar covering Golden Rule’s short-term and ancillary products. A brief Q&A will follow the presentation. \nClick here to register.
URL:https://www.crnstone.com/event/the-individual-corner-with-special-guest-unitedhealthone/
CATEGORIES:The Individual Corner
END:VEVENT
BEGIN:VEVENT
DTSTART;TZID=UTC:20200310T093000
DTEND;TZID=UTC:20200310T103000
DTSTAMP:20260419T223721
CREATED:20200115T163831Z
LAST-MODIFIED:20200115T163831Z
UID:1569-1583832600-1583836200@www.crnstone.com
SUMMARY:Tech Tuesday | Excel 301
DESCRIPTION:Microsoft Excel is a simplistic\, yet sophisticated tool that is accessible to anyone with a computer.Tech Tuesday’s three-part “The Ultimate Guide to Excel” webinar series will give you all the information you need to know to master this software. \nThe third and final webinar of the Excel series will go more in depth with formulas. Cornerstone tech expert Tom Levine will answer any remaining questions from the Excel 201 webinar and will cover how to manually enter formulas\, what “arguments” mean\, how to save space and time\, how to nest\, and more. A brief Q&A will follow the presentation. \nClick here to register.
URL:https://www.crnstone.com/event/tech-tuesday-excel-301/
CATEGORIES:Tech Tuesday
END:VEVENT
BEGIN:VEVENT
DTSTART;TZID=UTC:20200303T093000
DTEND;TZID=UTC:20200303T103000
DTSTAMP:20260419T223721
CREATED:20200115T164151Z
LAST-MODIFIED:20200226T141855Z
UID:1576-1583227800-1583231400@www.crnstone.com
SUMMARY:Build Your Brand | The Value of Print Advertising
DESCRIPTION:Even in a digital world\, print marketing still plays a vital role in growing your business. \nJoin Cornerstone’s Jessica Larkin and Steve Kapuscinski from Allegra for a deep dive into the world of print advertising\, customer journey mapping\, tips for branding and promoting your business\, and much more! A brief Q&A will follow the presentation. \nClick here to register.
URL:https://www.crnstone.com/event/build-your-brand-print-advertising/
CATEGORIES:Build Your Brand
END:VEVENT
BEGIN:VEVENT
DTSTART;TZID=UTC:20200226T093000
DTEND;TZID=UTC:20200226T103000
DTSTAMP:20260419T223721
CREATED:20200109T192312Z
LAST-MODIFIED:20200109T192312Z
UID:1262-1582709400-1582713000@www.crnstone.com
SUMMARY:The Individual Corner | with special guest Molina
DESCRIPTION:Join Cornerstone’s Geoff Beglen and Kahassai Tafese from Molina. Learn more about their product features\, benefits\, enrollment procedures\, and how to tailor their plans to your clients’ needs. A brief Q&A will follow the presentation. \nClick here to register.
URL:https://www.crnstone.com/event/the-individual-corner-with-special-guest-molina/
CATEGORIES:The Individual Corner
END:VEVENT
BEGIN:VEVENT
DTSTART;TZID=UTC:20200225T093000
DTEND;TZID=UTC:20200225T103000
DTSTAMP:20260419T223721
CREATED:20200109T192056Z
LAST-MODIFIED:20200109T192056Z
UID:1259-1582623000-1582626600@www.crnstone.com
SUMMARY:Tech Tuesday | Excel 201
DESCRIPTION:Microsoft Excel is a simplistic\, yet sophisticated tool that is accessible to anyone with a computer.Tech Tuesday’s three-part “The Ultimate Guide to Excel” webinar series will give you all the information you need to know to master this software. \nIn the second part of the Excel webinar series\, tech expert Tom Levine will cover formulas\, including what they are\, how to use them to your benefit\, and useful functions. A brief Q&A will follow the presentation. \nClick here to register.
URL:https://www.crnstone.com/event/tech-tuesday-excel-201/
CATEGORIES:Tech Tuesday
END:VEVENT
BEGIN:VEVENT
DTSTART;TZID=UTC:20200219T093000
DTEND;TZID=UTC:20200219T103000
DTSTAMP:20260419T223721
CREATED:20200109T191859Z
LAST-MODIFIED:20200211T142320Z
UID:1256-1582104600-1582108200@www.crnstone.com
SUMMARY:The Group Corner | Tools for Submitting a Complete Sold Case
DESCRIPTION:Join Cornerstone’s Sarah Lucas as she discusses tools and resources that are available to assist you in submitting a complete sold case to our Cornerstone new business team and valued carrier partners. She will also discuss some helpful hints on what to do even after the group is sold to ensure that the sold case process is efficient and to help avoid pitfalls once the case is installed. A brief Q&A will follow the presentation. \nClick here to register.
URL:https://www.crnstone.com/event/the-group-corner-topic-tbd/
CATEGORIES:The Group Corner
END:VEVENT
END:VCALENDAR