BEGIN:VCALENDAR
VERSION:2.0
PRODID:-//Cornerstone Broker Insurance Services Agency - ECPv6.15.13.1//NONSGML v1.0//EN
CALSCALE:GREGORIAN
METHOD:PUBLISH
X-WR-CALNAME:Cornerstone Broker Insurance Services Agency
X-ORIGINAL-URL:https://www.crnstone.com
X-WR-CALDESC:Events for Cornerstone Broker Insurance Services Agency
REFRESH-INTERVAL;VALUE=DURATION:PT1H
X-Robots-Tag:noindex
X-PUBLISHED-TTL:PT1H
BEGIN:VTIMEZONE
TZID:UTC
BEGIN:STANDARD
TZOFFSETFROM:+0000
TZOFFSETTO:+0000
TZNAME:UTC
DTSTART:20190101T000000
END:STANDARD
END:VTIMEZONE
BEGIN:VEVENT
DTSTART;TZID=UTC:20200204T093000
DTEND;TZID=UTC:20200204T103000
DTSTAMP:20260420T053300
CREATED:20200109T184443Z
LAST-MODIFIED:20200109T184517Z
UID:1240-1580808600-1580812200@www.crnstone.com
SUMMARY:Build Your Brand | What You Need to Know About Social Media
DESCRIPTION:If your business is not already on social media\, you may be missing out on major lead generation opportunities. Social media is a cost-effective marketing solution for those agents looking to connect more with their current clients and their prospects. \nJoin Cornerstone’s Jessica Larkin and 2060 Digital’s Kelsey Grassman as they discuss covers what you need to know about social media\, including the best platforms for the health insurance industry and how to gain followers and increase engagements. A brief Q&A will follow the presentation. \nClick here to register.
URL:https://www.crnstone.com/event/build-your-brand-what-you-need-to-know-about-social-media/
CATEGORIES:Build Your Brand
END:VEVENT
BEGIN:VEVENT
DTSTART;TZID=UTC:20200129T093000
DTEND;TZID=UTC:20200129T103000
DTSTAMP:20260420T053300
CREATED:20200109T182524Z
LAST-MODIFIED:20200109T182622Z
UID:1237-1580290200-1580293800@www.crnstone.com
SUMMARY:The Individual Corner | SEP Opportunities
DESCRIPTION:Your business has opportunities for growth throughout the year\, especially with clients who may qualify for coverage outside of open enrollment. Join Cornerstone’s Geoff Beglen as he discusses techniques for generating leads for a Special Enrollment Period. A brief Q&A will follow the presentation. \nClick here to register.
URL:https://www.crnstone.com/event/the-individual-corner-sep-opportunities/
CATEGORIES:The Individual Corner
END:VEVENT
BEGIN:VEVENT
DTSTART;TZID=UTC:20200128T093000
DTEND;TZID=UTC:20200128T103000
DTSTAMP:20260420T053300
CREATED:20200109T181548Z
LAST-MODIFIED:20200109T181548Z
UID:1234-1580203800-1580207400@www.crnstone.com
SUMMARY:Tech Tuesday | Microsoft Outlook Basics
DESCRIPTION:Join Cornerstone’s Tom Levine as he covers the basics of Microsoft Outlook\, when and how to use email effectively\, how to use rules and auto sorting\, calendar and task functions\, and how to back up your emails. A brief Q&A will follow the presentation. \nClick here to register.
URL:https://www.crnstone.com/event/tech-tuesday-microsoft-outlook-basics/
CATEGORIES:Tech Tuesday
END:VEVENT
BEGIN:VEVENT
DTSTART;TZID=UTC:20200121T093000
DTEND;TZID=UTC:20200121T103000
DTSTAMP:20260420T053300
CREATED:20200103T154137Z
LAST-MODIFIED:20200103T154137Z
UID:1036-1579599000-1579602600@www.crnstone.com
SUMMARY:Build Your Brand | Beginner's Guide to Branding
DESCRIPTION:Level up your marketing strategy in 2020 with Cornerstone’s Build Your Brand webinar series\, which is back with even more value! \nBranding is more than just a logo. Nowadays\, branding is a sophisticated and necessary tactic that businesses use to deliver a message and show credibility with existing and potential clients. \nJoin Marketing and Communication Specialist Jessica Larkin as she covers the basics of branding for a small business\, why it’s necessary\, and how to communicate your business’s value through your brand. A brief Q&A will follow the presentation. \nClick here to register.
URL:https://www.crnstone.com/event/build-your-brand-beginners-guide-to-branding/
CATEGORIES:Build Your Brand
END:VEVENT
BEGIN:VEVENT
DTSTART;TZID=UTC:20200115T093000
DTEND;TZID=UTC:20200115T103000
DTSTAMP:20260420T053300
CREATED:20200103T153902Z
LAST-MODIFIED:20200103T154530Z
UID:1033-1579080600-1579084200@www.crnstone.com
SUMMARY:The Individual Corner | with special guest The Dental Care Plus Group
DESCRIPTION:The Individual Corner is BACK. \nJoin Cornerstone’s Geoff Beglen and The Dental Care Plus Group’s Stephanie Mortenson for the first webinar of 2020 as they discuss The Dental Care Plus individual dental and hearing products. Learn more about their product features\, benefits\, enrollment procedures\, and how to tailor their plans to your clients’ needs. A brief Q&A will follow the presentation. \nClick here to register.
URL:https://www.crnstone.com/event/the-individual-corner-with-special-guest-the-dental-care-plus-group/
CATEGORIES:The Individual Corner
END:VEVENT
BEGIN:VEVENT
DTSTART;TZID=UTC:20200114T093000
DTEND;TZID=UTC:20200114T103000
DTSTAMP:20260420T053300
CREATED:20200103T151623Z
LAST-MODIFIED:20200103T154339Z
UID:1023-1578994200-1578997800@www.crnstone.com
SUMMARY:Tech Tuesday | Microsoft Word Basics
DESCRIPTION:Tom Levine’s Tech Tuesday webinar series is back in 2020\, starting with a series on Microsoft Office. \nJoin Tom for the Microsoft Word Basics webinar where he will walk through the basics of Word\, its formatting and design capabilities\, and how to use it to your advantage. A brief Q&A will follow the presentation. \nClick here to register.
URL:https://www.crnstone.com/event/tech-tuesday-microsoft-word-basics/
CATEGORIES:Tech Tuesday
END:VEVENT
END:VCALENDAR