BEGIN:VCALENDAR
VERSION:2.0
PRODID:-//Cornerstone Broker Insurance Services Agency - ECPv6.15.13.1//NONSGML v1.0//EN
CALSCALE:GREGORIAN
METHOD:PUBLISH
X-WR-CALNAME:Cornerstone Broker Insurance Services Agency
X-ORIGINAL-URL:https://www.crnstone.com
X-WR-CALDESC:Events for Cornerstone Broker Insurance Services Agency
REFRESH-INTERVAL;VALUE=DURATION:PT1H
X-Robots-Tag:noindex
X-PUBLISHED-TTL:PT1H
BEGIN:VTIMEZONE
TZID:UTC
BEGIN:STANDARD
TZOFFSETFROM:+0000
TZOFFSETTO:+0000
TZNAME:UTC
DTSTART:20190101T000000
END:STANDARD
END:VTIMEZONE
BEGIN:VEVENT
DTSTART;TZID=UTC:20200114T093000
DTEND;TZID=UTC:20200114T103000
DTSTAMP:20260420T115610
CREATED:20200103T151623Z
LAST-MODIFIED:20200103T154339Z
UID:1023-1578994200-1578997800@www.crnstone.com
SUMMARY:Tech Tuesday | Microsoft Word Basics
DESCRIPTION:Tom Levine’s Tech Tuesday webinar series is back in 2020\, starting with a series on Microsoft Office. \nJoin Tom for the Microsoft Word Basics webinar where he will walk through the basics of Word\, its formatting and design capabilities\, and how to use it to your advantage. A brief Q&A will follow the presentation. \nClick here to register.
URL:https://www.crnstone.com/event/tech-tuesday-microsoft-word-basics/
CATEGORIES:Tech Tuesday
END:VEVENT
END:VCALENDAR